BEGIN:VCALENDAR
VERSION:2.0
PRODID:-//Tikvah - ECPv6.15.20//NONSGML v1.0//EN
CALSCALE:GREGORIAN
METHOD:PUBLISH
X-WR-CALNAME:Tikvah
X-ORIGINAL-URL:https://tikvahajmi.org
X-WR-CALDESC:Events for Tikvah
REFRESH-INTERVAL;VALUE=DURATION:PT1H
X-Robots-Tag:noindex
X-PUBLISHED-TTL:PT1H
BEGIN:VTIMEZONE
TZID:America/New_York
BEGIN:DAYLIGHT
TZOFFSETFROM:-0500
TZOFFSETTO:-0400
TZNAME:EDT
DTSTART:20250309T070000
END:DAYLIGHT
BEGIN:STANDARD
TZOFFSETFROM:-0400
TZOFFSETTO:-0500
TZNAME:EST
DTSTART:20251102T060000
END:STANDARD
BEGIN:DAYLIGHT
TZOFFSETFROM:-0500
TZOFFSETTO:-0400
TZNAME:EDT
DTSTART:20260308T070000
END:DAYLIGHT
BEGIN:STANDARD
TZOFFSETFROM:-0400
TZOFFSETTO:-0500
TZNAME:EST
DTSTART:20261101T060000
END:STANDARD
BEGIN:DAYLIGHT
TZOFFSETFROM:-0500
TZOFFSETTO:-0400
TZNAME:EDT
DTSTART:20270314T070000
END:DAYLIGHT
BEGIN:STANDARD
TZOFFSETFROM:-0400
TZOFFSETTO:-0500
TZNAME:EST
DTSTART:20271107T060000
END:STANDARD
END:VTIMEZONE
BEGIN:VEVENT
DTSTART;TZID=America/New_York:20260616T120000
DTEND;TZID=America/New_York:20260616T131500
DTSTAMP:20260421T040603
CREATED:20250826T215302Z
LAST-MODIFIED:20260330T200530Z
UID:4843-1781611200-1781615700@tikvahajmi.org
SUMMARY:Learn & Lite Bites - Healthy Living in the Sun
DESCRIPTION:Each month we have a different speaker from Main Line Health to discuss health and wellness topics. A light\, healthy kosher lunch will be provided.\n\nJune’s Topic is Healthy Living in the Sun\n\nLearn how to enjoy the sun safely and protect your skin without fear. This informative session will explore the benefits of sunlight\, including vitamin D production\, while emphasizing smart sun habits to prevent damage and reduce the risk of skin cancer. Discover practical tips on sun protection\, recognizing early signs of skin issues\, and how to treat your skin with respect for a healthy\, glowing complexion year-round.\n\nThis program is free thanks to sponsorship by Tikvah\, GEMS\, MainLine Health\, and Kaiserman JCC. \n\n\n\n\nRegistration deadline June 10.  Please register HERE   (Link to be provided shortly)\n\nLocation:  Kaiserman JCC:  45 Haverford Rd\, Wynnewood\, PA 19096
URL:https://tikvahajmi.org/calendar-event/learn-lite-bites-healthy-living-in-the-sun
LOCATION:Kaiserman JCC\, 45 Haverford Ave\, Wynnewood\, PA\, 19096\, United States
CATEGORIES:Events
ATTACH;FMTTYPE=image/jpeg:https://tikvahajmi.org/wp-content/uploads/2025/01/Learb-Lite-Bites-Logo.jpg
END:VEVENT
BEGIN:VEVENT
DTSTART;TZID=America/New_York:20260624T120000
DTEND;TZID=America/New_York:20260624T150000
DTSTAMP:20260421T040603
CREATED:20251015T212728Z
LAST-MODIFIED:20260215T191639Z
UID:4970-1782302400-1782313200@tikvahajmi.org
SUMMARY:Community Event | Wellness Wednesday @NAMI Montco
DESCRIPTION:NAMI Montgomery County hosts Wellness Wednesday on the 4th Wednesday of the month at the NAMI MontCo Office for a time for people to connect and have fun! \n\nInformation on this month’s Wellness Wednesday will be posted once available.\n\nFor more information\, call the NAMI MontCo at 215-361-7784 (not a crisis line) or email office@namimontcopa.org
URL:https://tikvahajmi.org/calendar-event/community-event-wellness-wednesday-nami-montco-2
LOCATION:Private: NAMI Montgomery County\, 100 West Main St\, Lansdale\, PA\, 19446
CATEGORIES:Community Partner Event
ATTACH;FMTTYPE=image/jpeg:https://tikvahajmi.org/wp-content/uploads/2025/08/NAMI-MontCo.jpeg
END:VEVENT
END:VCALENDAR