BEGIN:VCALENDAR
VERSION:2.0
PRODID:-//Tikvah - ECPv6.15.20//NONSGML v1.0//EN
CALSCALE:GREGORIAN
METHOD:PUBLISH
X-ORIGINAL-URL:https://tikvahajmi.org
X-WR-CALDESC:Events for Tikvah
REFRESH-INTERVAL;VALUE=DURATION:PT1H
X-Robots-Tag:noindex
X-PUBLISHED-TTL:PT1H
BEGIN:VTIMEZONE
TZID:America/New_York
BEGIN:DAYLIGHT
TZOFFSETFROM:-0500
TZOFFSETTO:-0400
TZNAME:EDT
DTSTART:20250309T070000
END:DAYLIGHT
BEGIN:STANDARD
TZOFFSETFROM:-0400
TZOFFSETTO:-0500
TZNAME:EST
DTSTART:20251102T060000
END:STANDARD
BEGIN:DAYLIGHT
TZOFFSETFROM:-0500
TZOFFSETTO:-0400
TZNAME:EDT
DTSTART:20260308T070000
END:DAYLIGHT
BEGIN:STANDARD
TZOFFSETFROM:-0400
TZOFFSETTO:-0500
TZNAME:EST
DTSTART:20261101T060000
END:STANDARD
BEGIN:DAYLIGHT
TZOFFSETFROM:-0500
TZOFFSETTO:-0400
TZNAME:EDT
DTSTART:20270314T070000
END:DAYLIGHT
BEGIN:STANDARD
TZOFFSETFROM:-0400
TZOFFSETTO:-0500
TZNAME:EST
DTSTART:20271107T060000
END:STANDARD
END:VTIMEZONE
BEGIN:VEVENT
DTSTART;TZID=America/New_York:20260517T140000
DTEND;TZID=America/New_York:20260517T163000
DTSTAMP:20260425T215949
CREATED:20260214T210558Z
LAST-MODIFIED:20260422T183405Z
UID:5359-1779026400-1779035400@tikvahajmi.org
SUMMARY:"1776" The Musical @Walnut Street Theatre
DESCRIPTION:*** SOLD OUT *** Contact the office to be added to the waitlist. \nAn afternoon at the theater with Tikvah friends! \nAs as we celebrate the 250th anniversary of our nation’s birth—the founding fathers come alive in “1776\,” the classic award-winning Broadway musical.\nJoin John Adams\, Benjamin Franklin\, and Thomas Jefferson as they fight for independence against a deadlocked Continental Congress in a retelling filled with humor\, romance\, pathos\, and nail-biting tension. 1776 is not just a revolutionary musical; it’s a captivating journey of what happened right here in Philadelphia! \nLimited tickets available for Tikvah Members at $25. Payment confirms your ticket. \nPlease register HERE \nWalnut Street Theatre: 825 Walnut Street\, Philadelphia\, PA 19107
URL:https://tikvahajmi.org/calendar-event/1776-the-musical-walnut-street-theatre
LOCATION:Walnut Street Theatre\, 825 Walnut Street\, Philadelphia\, PA\, 19107
CATEGORIES:Events
ATTACH;FMTTYPE=image/jpeg:https://tikvahajmi.org/wp-content/uploads/2026/02/1776-lg.jpeg
END:VEVENT
BEGIN:VEVENT
DTSTART;TZID=America/New_York:20260519T120000
DTEND;TZID=America/New_York:20260519T131500
DTSTAMP:20260425T215949
CREATED:20250826T214545Z
LAST-MODIFIED:20260422T185220Z
UID:4841-1779192000-1779196500@tikvahajmi.org
SUMMARY:Learn & Lite Bites - Stroke Awareness & Prevention
DESCRIPTION:Each month we have a different speaker from Main Line Health to discuss health and wellness topics. A light\, healthy kosher lunch will be provided.\n\nMay’s Topic is Stroke Awareness and Prevention\n\nGain essential knowledge about stroke—its warning signs\, risk factors\, and how to respond quickly in an emergency. This session covers practical strategies for stroke prevention through lifestyle changes\, managing chronic conditions\, and understanding the importance of timely medical care. Empower yourself with the information needed to protect your brain health and reduce your risk of stroke.\n\nThis program is free thanks to sponsorship by Tikvah\, GEMS\, MainLine Health\, and Kaiserman JCC. \n\n\n\n\nRegistration deadline May 12.  Please register HERE\n\nLocation:  Kaiserman JCC:  45 Haverford Rd\, Wynnewood\, PA 19096
URL:https://tikvahajmi.org/calendar-event/learn-lite-bites-stroke-awareness-prevention
LOCATION:Kaiserman JCC\, 45 Haverford Ave\, Wynnewood\, PA\, 19096\, United States
CATEGORIES:Events
ATTACH;FMTTYPE=image/jpeg:https://tikvahajmi.org/wp-content/uploads/2025/01/Learb-Lite-Bites-Logo.jpg
END:VEVENT
BEGIN:VEVENT
DTSTART;TZID=America/New_York:20260520T183000
DTEND;TZID=America/New_York:20260520T193000
DTSTAMP:20260425T215949
CREATED:20260214T210929Z
LAST-MODIFIED:20260424T012137Z
UID:5365-1779301800-1779305400@tikvahajmi.org
SUMMARY:Living in the Moment – Meditation with Rabbi Levin (Virtual)
DESCRIPTION:Virtual program of mindfulness\, gratitude\, and meditation practice led by Rabbi Levin. \nFree program for Tikvah members but registration is required.  Only those who are registered will be admitted. \nThe Zoom link will be sent via email when you register and one day before the event. \nPlease register HERE (link to be added closer to the event)
URL:https://tikvahajmi.org/calendar-event/living-in-the-moment-meditation-with-rabbi-levin-virtual-12
LOCATION:PA
CATEGORIES:Events
ATTACH;FMTTYPE=image/png:https://tikvahajmi.org/wp-content/uploads/2024/08/meditationSQR-1.png
END:VEVENT
BEGIN:VEVENT
DTSTART;TZID=America/New_York:20260524T120000
DTEND;TZID=America/New_York:20260524T150000
DTSTAMP:20260425T215949
CREATED:20260214T211133Z
LAST-MODIFIED:20260423T183839Z
UID:5367-1779624000-1779634800@tikvahajmi.org
SUMMARY:Tikvah Day @Washington Crossing
DESCRIPTION:Join Tikvah friends for a relaxing afternoon at the park.\nWe’ll enjoy Kosher Bar-B-Q\, vegetarian options\, salads and dessert.\n\nFree for Tikvah members.\n$15 for guests.\nPlease register by Sunday\, May 17. \nPlease register HERE  \nWashington Crossing Historic Park: 1112 River Road\, Washington Crossing\, PA 18977
URL:https://tikvahajmi.org/calendar-event/tikvah-day-tyler-state-park
LOCATION:Washington Crossing Historic Park\, 1112 River Road\, Washington Crossing\, PA\, 18977
CATEGORIES:Events
ATTACH;FMTTYPE=image/jpeg:https://tikvahajmi.org/wp-content/uploads/2025/05/picnic-basket.jpg
END:VEVENT
BEGIN:VEVENT
DTSTART;TZID=America/New_York:20260531T150000
DTEND;TZID=America/New_York:20260531T170000
DTSTAMP:20260425T215949
CREATED:20260422T194201Z
LAST-MODIFIED:20260424T191918Z
UID:5537-1780239600-1780246800@tikvahajmi.org
SUMMARY:Klezmer Jam @Kaiserman JCC
DESCRIPTION:Throughout the year\, GEMS at Kaiserman JCC hosts joyful klezmer jams\, spirited concerts\, and cultural events that celebrate the rich musical traditions of Eastern European Jewish life. \nJoin us on Sunday\, May 31st for Klezmer Jam with With Ken Ulansey & Phyllis Chapell! \nDuring these klezmer jams\, musicians of all ages and skill levels are welcome to join in on the music. Bring your instruments and follow along with the sheet music provided. Not a musician? No problem\, just come to listen to the music! \n$10 for Tikvah Members \n$18 for guests \nPlease register HERE \nKaiserman JCC:  45 Haverford Rd\, Penn Wynne\, PA 19096
URL:https://tikvahajmi.org/calendar-event/klezmer-jam-kaiserman-jcc
LOCATION:Kaiserman JCC\, 45 Haverford Ave\, Wynnewood\, PA\, 19096\, United States
CATEGORIES:Events
ATTACH;FMTTYPE=image/jpeg:https://tikvahajmi.org/wp-content/uploads/2026/04/Klezmer.jpg
END:VEVENT
BEGIN:VEVENT
DTSTART;TZID=America/New_York:20260607T130000
DTEND;TZID=America/New_York:20260607T160000
DTSTAMP:20260425T215949
CREATED:20260423T184802Z
LAST-MODIFIED:20260423T191803Z
UID:5554-1780837200-1780848000@tikvahajmi.org
SUMMARY:Trenton Thunder Baseball Game
DESCRIPTION:Come with us to cheer on the Trenton Thunder team as they play the Williamsport Crosscutters. \nFood and beverages are available at the ballpark for purchase on your own. \nVan Transportation will be available from Neighborhood hubs. \n$20 per person   Tickets are limited. Payment confirms your ticket. \nPlease register HERE  (Link to be posted soon!) \nTrenton Thunder Ballpark\, 1 Thunder Road\, Trenton\, NJ 08611
URL:https://tikvahajmi.org/calendar-event/s-trenton-thunder-baseball-game
LOCATION:Trenton Thunder Ballpark\, 1 Thunder Road\, Trenton\, NJ\, 08611
CATEGORIES:Events,Tribe Tikvah
ATTACH;FMTTYPE=image/png:https://tikvahajmi.org/wp-content/uploads/2025/06/Trenton-Thunder.png
END:VEVENT
BEGIN:VEVENT
DTSTART;TZID=America/New_York:20260616T120000
DTEND;TZID=America/New_York:20260616T131500
DTSTAMP:20260425T215949
CREATED:20250826T215302Z
LAST-MODIFIED:20260423T183230Z
UID:4843-1781611200-1781615700@tikvahajmi.org
SUMMARY:Learn & Lite Bites - Safe Travel Tips
DESCRIPTION:Each month we have a different speaker from Main Line Health to discuss health and wellness topics. A light\, healthy kosher lunch will be provided.\n\n\n\nJune’s topic: Safe Travel Tips\n\nInterested in learning more about tips and considerations to make your travel safer?  We will be discussing strategies and recommendations for getting through the airport\, tips for long-haul flights\, how to manage medical conditions while traveling\, and how to plan your trip to get the most out of it while reducing risk of injuries. \n\nThis program is free thanks to sponsorship by Tikvah\, GEMS\, MainLine Health\, and Kaiserman JCC. \n\n\n\nRegistration deadline June 10.  Please register HERE   (Link to be provided shortly)\n\nLocation:  Kaiserman JCC:  45 Haverford Rd\, Wynnewood\, PA 19096
URL:https://tikvahajmi.org/calendar-event/learn-lite-bites-healthy-living-in-the-sun
LOCATION:Kaiserman JCC\, 45 Haverford Ave\, Wynnewood\, PA\, 19096\, United States
CATEGORIES:Events
ATTACH;FMTTYPE=image/jpeg:https://tikvahajmi.org/wp-content/uploads/2025/01/Learb-Lite-Bites-Logo.jpg
END:VEVENT
BEGIN:VEVENT
DTSTART;TZID=America/New_York:20260628T140000
DTEND;TZID=America/New_York:20260628T163000
DTSTAMP:20260425T215949
CREATED:20260423T193222Z
LAST-MODIFIED:20260423T193428Z
UID:5561-1782655200-1782664200@tikvahajmi.org
SUMMARY:"Dear Evan Hansen" @Arden Theater
DESCRIPTION:Winner of six Tony Awards\, Dear Evan Hansen is a deeply personal and profoundly contemporary musical for anyone who’s ever felt alone in a crowded room. \nA letter meant to stay private\, a truth that was never supposed to come to light\, a life he never imagined possible. Evan Hansen is on the verge of getting the one thing he’s always desired\, a chance to truly belong. Winner of six Tony Awards\, Dear Evan Hansen is a deeply personal and profoundly contemporary musical for anyone who’s ever felt alone in a crowded room.  \nContains mature themes including mental health challenges as well as strong language.  \nTickets for Tikvah members only are $25. Limited tickets available. Payment confirms ticket. \nPlease register HERE (Link to be posted soon!) \nArden Theater: 40 N. 2nd Street\, Philadelphia\, PA 19106 \n 
URL:https://tikvahajmi.org/calendar-event/dear-evan-hansen-arden-theater
LOCATION:Arden Theater Company\, 40 N 2nd St\, Philadelphia\, PA\, 19106
CATEGORIES:Events,Tribe Tikvah
ATTACH;FMTTYPE=image/jpeg:https://tikvahajmi.org/wp-content/uploads/2026/04/DEH-Arden.jpeg
END:VEVENT
END:VCALENDAR