BEGIN:VCALENDAR
VERSION:2.0
PRODID:-//Tikvah - ECPv6.15.20//NONSGML v1.0//EN
CALSCALE:GREGORIAN
METHOD:PUBLISH
X-WR-CALNAME:Tikvah
X-ORIGINAL-URL:https://tikvahajmi.org
X-WR-CALDESC:Events for Tikvah
REFRESH-INTERVAL;VALUE=DURATION:PT1H
X-Robots-Tag:noindex
X-PUBLISHED-TTL:PT1H
BEGIN:VTIMEZONE
TZID:America/New_York
BEGIN:DAYLIGHT
TZOFFSETFROM:-0500
TZOFFSETTO:-0400
TZNAME:EDT
DTSTART:20250309T070000
END:DAYLIGHT
BEGIN:STANDARD
TZOFFSETFROM:-0400
TZOFFSETTO:-0500
TZNAME:EST
DTSTART:20251102T060000
END:STANDARD
BEGIN:DAYLIGHT
TZOFFSETFROM:-0500
TZOFFSETTO:-0400
TZNAME:EDT
DTSTART:20260308T070000
END:DAYLIGHT
BEGIN:STANDARD
TZOFFSETFROM:-0400
TZOFFSETTO:-0500
TZNAME:EST
DTSTART:20261101T060000
END:STANDARD
BEGIN:DAYLIGHT
TZOFFSETFROM:-0500
TZOFFSETTO:-0400
TZNAME:EDT
DTSTART:20270314T070000
END:DAYLIGHT
BEGIN:STANDARD
TZOFFSETFROM:-0400
TZOFFSETTO:-0500
TZNAME:EST
DTSTART:20271107T060000
END:STANDARD
END:VTIMEZONE
BEGIN:VEVENT
DTSTART;TZID=America/New_York:20260204T190000
DTEND;TZID=America/New_York:20260204T210000
DTSTAMP:20260425T170300
CREATED:20251215T215202Z
LAST-MODIFIED:20251229T040658Z
UID:5139-1770231600-1770238800@tikvahajmi.org
SUMMARY:"My Missing Screw" Film & Discussion
DESCRIPTION:Join Kaiserman JCC\, JFCS of Greater Philadelphia\, and Tikvah for a screening of the Israeli documentary “My Missing Screw.” \n“My Missing Screw” explores how a young father\, Rafael Lomas\, uses his art to heal\, cope after a failed\, suicide attempt and time in a psychiatric hospital. Rafael decides to sculpt his own “missing screw” and take it on an epic\, poignant\, often hilarious journey around the world – but his son feels abandoned. Can Rafael reinvent himself\, his art\, and his family? \nAccompanying the screening\, there will be a discussion on creating positive mental practices for our lives. \nTickets are $12. \nPlease register HERE by January  28. \nThis event is sponsored by Kaiserman JCC\, JFCS\, and Tikvah. \nKaiserman JCC 45 Haverford Rd. Wynnewood\, PA 19096
URL:https://tikvahajmi.org/calendar-event/my-missing-screw
LOCATION:Kaiserman JCC\, 45 Haverford Ave\, Wynnewood\, PA\, 19096\, United States
CATEGORIES:Events
ATTACH;FMTTYPE=image/png:https://tikvahajmi.org/wp-content/uploads/2025/10/Missing-Screw-Film-Screening-small.png
END:VEVENT
BEGIN:VEVENT
DTSTART;TZID=America/New_York:20260208T140000
DTEND;TZID=America/New_York:20260208T160000
DTSTAMP:20260425T170300
CREATED:20260115T190056Z
LAST-MODIFIED:20260127T195113Z
UID:5186-1770559200-1770566400@tikvahajmi.org
SUMMARY:Dessert & Dialogue: How to Thrive in a World that Feels Broken
DESCRIPTION:Enjoy kosher desserts and coffee with the Tikvah community. Keynote Speaker Barbara Gettes\, Clinical Mental Health Counselor and Wellness Coach will present about “How to Thrive in a World that Feels Broken.” \nFree for Tikvah members and guests. \nRegistration requested by February 1st. \nPlease register HERE \nReform Congregation Keneseth Israel: 8339 Old York Rd\, Elkins Park\, PA 19027
URL:https://tikvahajmi.org/calendar-event/ed-dessert-dialogue-how-to-thrive-in-a-world-that-feels-broken
LOCATION:Reform Congregation Keneseth Israel\, 8339 Old York Rd\, Elkins Park\, PA\, 19027
CATEGORIES:Events
ATTACH;FMTTYPE=image/jpeg:https://tikvahajmi.org/wp-content/uploads/2026/01/Coffee-Cookies.jpeg
END:VEVENT
BEGIN:VEVENT
DTSTART;TZID=America/New_York:20260210T180000
DTEND;TZID=America/New_York:20260210T203000
DTSTAMP:20260425T170300
CREATED:20260115T192758Z
LAST-MODIFIED:20260122T183059Z
UID:5193-1770746400-1770755400@tikvahajmi.org
SUMMARY:Loneliness to Belonging: Mental Wellness Fair @Beth Or
DESCRIPTION:Loneliness to Belonging  \nRabbi Richard Address\, Founder and Director of Jewish Sacred Aging will deliver the keynote presentation\, followed by break out groups for discussion facilitated by members of the Beth Or Mental Health Committee.  This event includes a resource fair featuring several local behavioral health organizations. \n6:00 – 7:00 – Wellness Resource Tables \n7:00 – 8:00 – Keynote Presentation by Rabbi Address \n8:00 – 8:30 – Break Out Discussion Groups \nRabbi Address has served for over three decades on the staff of the Union for Reform Judaism and served as Senior Rabbi of Congregation M’kor Shalom in Cherry Hill\, NJ from 2011-2014.  A major part of his work has been creating awareness and resources for congregations on the implications of the emerging longevity revolution that impacts Jewish and communal life. \nFree thanks to Congregation Beth Or and Tikvah. \nPlease register HERE by February 2nd. \n Congregation Beth Or: 239 Welsh Rd\, Ambler\, PA 19002
URL:https://tikvahajmi.org/calendar-event/loneliness-to-belonging-mental-wellness-fair-beth-or
LOCATION:Congregation Beth Or\, 239 Welsh Rd\, Ambler\, PA
CATEGORIES:Events
ATTACH;FMTTYPE=image/jpeg:https://tikvahajmi.org/wp-content/uploads/2026/01/Star-of-David-People.jpg
END:VEVENT
BEGIN:VEVENT
DTSTART;TZID=America/New_York:20260215T140000
DTEND;TZID=America/New_York:20260215T163000
DTSTAMP:20260425T170300
CREATED:20250826T191329Z
LAST-MODIFIED:20260210T213620Z
UID:4818-1771164000-1771173000@tikvahajmi.org
SUMMARY:Sherlock Holmes: The Great Detective @Walnut Street Theatre
DESCRIPTION:** SOLD OUT **\nAn afternoon at the theater with Tikvah friends! \nIntrigue\, adventure\, and comedy unfold in SHERLOCK HOLMES: THE GREAT DETECTIVE\, a world premiere adapted from the stories of Sir Arthur Conan Doyle. Holmes and Watson\, drawn together once more\, face rivalry\, disguises\, and mishaps galore. From Baker Street\, the two embark on a whirlwind chase\, complete with antics and absurd conspiracies\, all masterminded by the sinister Professor Moriarty. Mayhem and whimsical mystery unfold in this all-new tale with the world’s greatest detective! \nLimited tickets available for Tikvah Members at $25. Payment confirms your ticket. \nPlease register HERE  \nWalnut Street Theatre: 825 Walnut Street\, Philadelphia\, PA 19107
URL:https://tikvahajmi.org/calendar-event/sherlock-holmes-the-great-detective-walnut-street-theatre
LOCATION:Walnut Street Theatre\, 825 Walnut Street\, Philadelphia\, PA\, 19107
CATEGORIES:Events
ATTACH;FMTTYPE=image/jpeg:https://tikvahajmi.org/wp-content/uploads/2025/08/2025-sherlock2.jpg
END:VEVENT
BEGIN:VEVENT
DTSTART;TZID=America/New_York:20260217T120000
DTEND;TZID=America/New_York:20260217T131500
DTSTAMP:20260425T170300
CREATED:20250826T213720Z
LAST-MODIFIED:20260117T212325Z
UID:4834-1771329600-1771334100@tikvahajmi.org
SUMMARY:Learn & Lite Bites - Heart Health Awareness
DESCRIPTION:Each month a speaker from Main Line Health will discuss health and wellness topics. A light\, healthy\, kosher lunch will be provided.\n\nFebruary’s Topic is Heart Health Awareness: Learn\, Play\, and Thrive with Abby Riley\n\n\nCelebrate Heart Health Month with an interactive session focused on understanding and improving your cardiovascular wellness. Join Abby Riley for fun\, educational games that highlight key heart health facts\, risk factors\, and simple lifestyle changes you can make to protect your heart. This engaging experience will leave you motivated and equipped to take charge of your heart health for a stronger\, healthier life.\n\n\nThis program is free thanks to sponsorship by Tikvah\, GEMS\, MainLine Health\, and Kaiserman JCC.\n\n\n\n\nRegistration deadline February 10.  Please register HERE\n\n\nLocation:  Kaiserman JCC:  45 Haverford Rd\, Wynnewood\, PA 19096
URL:https://tikvahajmi.org/calendar-event/learn-lite-bites-heart-health-awareness
LOCATION:Kaiserman JCC\, 45 Haverford Ave\, Wynnewood\, PA\, 19096\, United States
CATEGORIES:Events
ATTACH;FMTTYPE=image/jpeg:https://tikvahajmi.org/wp-content/uploads/2025/01/Learb-Lite-Bites-Logo.jpg
END:VEVENT
BEGIN:VEVENT
DTSTART;TZID=America/New_York:20260218T183000
DTEND;TZID=America/New_York:20260218T193000
DTSTAMP:20260425T170300
CREATED:20251110T202228Z
LAST-MODIFIED:20260117T213841Z
UID:5072-1771439400-1771443000@tikvahajmi.org
SUMMARY:Living in the Moment – Meditation with Rabbi Levin (Virtual)
DESCRIPTION:Virtual program of mindfulness\, gratitude\, and meditation practice led by Rabbi Levin. \nFree program for Tikvah members but registration is required.  Only those who are registered will be admitted. \nThe Zoom link will be sent via email when you register and one day before the event. \nPlease register HERE 
URL:https://tikvahajmi.org/calendar-event/living-in-the-moment-meditation-with-rabbi-levin-virtual-9
LOCATION:PA
CATEGORIES:Events
ATTACH;FMTTYPE=image/png:https://tikvahajmi.org/wp-content/uploads/2024/08/meditationSQR-1.png
END:VEVENT
BEGIN:VEVENT
DTSTART;TZID=America/New_York:20260220T100000
DTEND;TZID=America/New_York:20260220T120000
DTSTAMP:20260425T170300
CREATED:20260119T204753Z
LAST-MODIFIED:20260119T211423Z
UID:5212-1771581600-1771588800@tikvahajmi.org
SUMMARY:Tikvah Volunteers – JRA Packing & Lunch
DESCRIPTION:Join your Tikvah friends to volunteer and provide a service for the community. \nWe will meet at the Jewish Relief Agency (JRA) Warehouse in Northeast Philadelphia to pack emergency food boxes that will be distributed to those in our community who are in need. At the end of the shift we will have a light Kosher lunch. \nRegister by Friday\, February 13. Wait list after that date. \nPlease register HERE \n\nJewish Relief Agency Warehouse:  10980 Dutton Rd\, Philadelphia\, PA 19154
URL:https://tikvahajmi.org/calendar-event/tikvah-volunteers-jra-packing-lunch-3
LOCATION:Jewish Relief Agency\, 10980 Dutton Road\, Philadelphia\, PA\, 19154
CATEGORIES:Events
ATTACH;FMTTYPE=image/png:https://tikvahajmi.org/wp-content/uploads/2025/05/JRA-Logo.png
END:VEVENT
BEGIN:VEVENT
DTSTART;TZID=America/New_York:20260220T173000
DTEND;TZID=America/New_York:20260220T190000
DTSTAMP:20260425T170301
CREATED:20260127T181620Z
LAST-MODIFIED:20260127T181620Z
UID:5255-1771608600-1771614000@tikvahajmi.org
SUMMARY:Paul's Run Shabbos Dinner
DESCRIPTION:Enjoy free Shabbos dinner with all the trimmings. New and old friends from Tikvah and Shaare Shamayim. \nSponsored in part by Jewish Federation Northeast Kehillah\, \nRSVP by February 13. \nPlease register HERE \n  \n Paul’s Run: 9896 Bustleton Avenue\, Philadelphia\, PA 19115
URL:https://tikvahajmi.org/calendar-event/pauls-run-shabbos-dinner
LOCATION:Paul’s Run\, 9896 Bustleton Avenue\, Philadelphia\, PA\, 19115
CATEGORIES:Events
ATTACH;FMTTYPE=image/png:https://tikvahajmi.org/wp-content/uploads/2026/01/Shabbat.png
END:VEVENT
BEGIN:VEVENT
DTSTART;TZID=America/New_York:20260222T140000
DTEND;TZID=America/New_York:20260222T163000
DTSTAMP:20260425T170301
CREATED:20260119T214309Z
LAST-MODIFIED:20260212T185406Z
UID:5217-1771768800-1771777800@tikvahajmi.org
SUMMARY:Ohev Shalom Players Present  "Joseph and the Amazing Technicolor Dream Coat"
DESCRIPTION:*** ALMOST SOLD OUT ***\nOhev Shalom Players Present “Joseph and the Amazing Technicolor Dream Coat”\nJoin Tikvah Friends for this delightful sung-through musical by Andrew Lloyd Weber with lyrics by Tim Rice.   Based on the character of Joseph from the bible’s book of Genesis. \nLimited seats available\, $20 for Tikvah members only. Payment confirms your ticket. \nPlease register HERE \nOhev Shalom of Bucks County: 944 Second Street Pike\, Richboro\, PA 18954
URL:https://tikvahajmi.org/calendar-event/t-ohev-shalom-players-present-joseph-and-the-amazing-technicolor-dream-coat
LOCATION:Ohev Shalom\, 944 Second Street Pike\, Richboro\, PA\, 18954
CATEGORIES:Events
ATTACH;FMTTYPE=image/jpeg:https://tikvahajmi.org/wp-content/uploads/2026/01/JATD.jpeg
END:VEVENT
BEGIN:VEVENT
DTSTART;TZID=America/New_York:20260225T113000
DTEND;TZID=America/New_York:20260225T133000
DTSTAMP:20260425T170301
CREATED:20260119T232735Z
LAST-MODIFIED:20260127T181920Z
UID:5224-1772019000-1772026200@tikvahajmi.org
SUMMARY:KleinLife February & March Birthday Party
DESCRIPTION:Celebrate February AND March birthdays with Tikvah friends and the KleinLife community!\n\n\n\nMenu: Egg Salad Pita\, lettuce & tomato. Pickled beets. Marinated carrot salad. Saltines. Whole wheat pita\, Cinnamon applesauce\, Birthday cupcakes.\n\n\n\n\n\n\nRegistration deadline is February 17. Wait list after that date.\nPlease register HERE\n\n\nSponsored by KleinLife and Philadelphia Corporation for Aging.\n\n\n KleinLife:  10100 Jamison Ave\, Philadelphia\, PA 19116
URL:https://tikvahajmi.org/calendar-event/kleinlife-february-march-birthday-party
LOCATION:KleinLife\, 10100 Jamison Ave.\, Philadelphia\, PA\, 19116\, United States
CATEGORIES:Events
ATTACH;FMTTYPE=image/jpeg:https://tikvahajmi.org/wp-content/uploads/2024/08/Happy-Birthday.jpeg
END:VEVENT
END:VCALENDAR